BEGIN:VCALENDAR
VERSION:2.0
PRODID:-//Paradise Point Yacht Club - ECPv6.15.20//NONSGML v1.0//EN
CALSCALE:GREGORIAN
METHOD:PUBLISH
X-ORIGINAL-URL:https://paradisepointyachtclub.org
X-WR-CALDESC:Events for Paradise Point Yacht Club
REFRESH-INTERVAL;VALUE=DURATION:PT1H
X-Robots-Tag:noindex
X-PUBLISHED-TTL:PT1H
BEGIN:VTIMEZONE
TZID:America/Chicago
BEGIN:DAYLIGHT
TZOFFSETFROM:-0600
TZOFFSETTO:-0500
TZNAME:CDT
DTSTART:20240310T080000
END:DAYLIGHT
BEGIN:STANDARD
TZOFFSETFROM:-0500
TZOFFSETTO:-0600
TZNAME:CST
DTSTART:20241103T070000
END:STANDARD
BEGIN:DAYLIGHT
TZOFFSETFROM:-0600
TZOFFSETTO:-0500
TZNAME:CDT
DTSTART:20250309T080000
END:DAYLIGHT
BEGIN:STANDARD
TZOFFSETFROM:-0500
TZOFFSETTO:-0600
TZNAME:CST
DTSTART:20251102T070000
END:STANDARD
BEGIN:DAYLIGHT
TZOFFSETFROM:-0600
TZOFFSETTO:-0500
TZNAME:CDT
DTSTART:20260308T080000
END:DAYLIGHT
BEGIN:STANDARD
TZOFFSETFROM:-0500
TZOFFSETTO:-0600
TZNAME:CST
DTSTART:20261101T070000
END:STANDARD
END:VTIMEZONE
BEGIN:VEVENT
DTSTART;TZID=America/Chicago:20251004T100000
DTEND;TZID=America/Chicago:20251004T150000
DTSTAMP:20260423T100933
CREATED:20250312T191205Z
LAST-MODIFIED:20250312T191205Z
UID:8466-1759572000-1759590000@paradisepointyachtclub.org
SUMMARY:Fall Series Races 5 & 6
DESCRIPTION:
URL:https://paradisepointyachtclub.org/event/fall-series-races-5-6/
LOCATION:PPYC Sailboat Cove\, 4619 Chapel Rd Smithville\, MO 64089\, Smithville\, MO\, 64089\, United States
CATEGORIES:Races
ATTACH;FMTTYPE=image/jpeg:https://paradisepointyachtclub.org/wp-content/uploads/2015/08/166027_355044331227537_123788375_n.jpg
END:VEVENT
BEGIN:VEVENT
DTSTART;TZID=America/Chicago:20250906T100000
DTEND;TZID=America/Chicago:20250906T150000
DTSTAMP:20260423T100933
CREATED:20250312T190346Z
LAST-MODIFIED:20250312T190346Z
UID:8460-1757152800-1757170800@paradisepointyachtclub.org
SUMMARY:Fall Series Races 3 & 4
DESCRIPTION:
URL:https://paradisepointyachtclub.org/event/fall-series-races-3-4/
LOCATION:PPYC Sailboat Cove\, 4619 Chapel Rd Smithville\, MO 64089\, Smithville\, MO\, 64089\, United States
CATEGORIES:Races
ATTACH;FMTTYPE=image/jpeg:https://paradisepointyachtclub.org/wp-content/uploads/2015/08/166027_355044331227537_123788375_n.jpg
END:VEVENT
BEGIN:VEVENT
DTSTART;TZID=America/Chicago:20250823T100000
DTEND;TZID=America/Chicago:20250823T150000
DTSTAMP:20260423T100933
CREATED:20190224T225544Z
LAST-MODIFIED:20250312T185314Z
UID:1234-1755943200-1755961200@paradisepointyachtclub.org
SUMMARY:Fall Series Races 1 & 2
DESCRIPTION:Captain’s Meeting @ 10:00 am
URL:https://paradisepointyachtclub.org/event/buoy-race-3/
LOCATION:PPYC Sailboat Cove\, 4619 Chapel Rd Smithville\, MO 64089\, Smithville\, MO\, 64089\, United States
CATEGORIES:Races
ATTACH;FMTTYPE=image/jpeg:https://paradisepointyachtclub.org/wp-content/uploads/2015/08/166027_355044331227537_123788375_n.jpg
END:VEVENT
BEGIN:VEVENT
DTSTART;TZID=America/Chicago:20250726T100000
DTEND;TZID=America/Chicago:20250726T150000
DTSTAMP:20260423T100933
CREATED:20190224T225740Z
LAST-MODIFIED:20250723T171601Z
UID:1238-1753524000-1753542000@paradisepointyachtclub.org
SUMMARY:Fun Race 3 (Sailors\, With the heat / humidity we are cancelling the Fun Race Saturday)
DESCRIPTION:Captain’s Meeting – 10:00 am
URL:https://paradisepointyachtclub.org/event/buoy-races-3/
LOCATION:PPYC Sailboat Cove\, 4619 Chapel Rd Smithville\, MO 64089\, Smithville\, MO\, 64089\, United States
CATEGORIES:Races
ATTACH;FMTTYPE=image/jpeg:https://paradisepointyachtclub.org/wp-content/uploads/2015/08/166027_355044331227537_123788375_n.jpg
END:VEVENT
BEGIN:VEVENT
DTSTART;TZID=America/Chicago:20250628T100000
DTEND;TZID=America/Chicago:20250628T150000
DTSTAMP:20260423T100933
CREATED:20190224T224631Z
LAST-MODIFIED:20250312T182603Z
UID:1214-1751104800-1751122800@paradisepointyachtclub.org
SUMMARY:Fun Race 2
DESCRIPTION:Captain’s Meeting – 10:00am
URL:https://paradisepointyachtclub.org/event/buoy-race-2/
LOCATION:PPYC Sailboat Cove\, 4619 Chapel Rd Smithville\, MO 64089\, Smithville\, MO\, 64089\, United States
CATEGORIES:Races
ATTACH;FMTTYPE=image/jpeg:https://paradisepointyachtclub.org/wp-content/uploads/2015/08/166027_355044331227537_123788375_n.jpg
END:VEVENT
BEGIN:VEVENT
DTSTART;TZID=America/Chicago:20250517T100000
DTEND;TZID=America/Chicago:20250517T150000
DTSTAMP:20260423T100933
CREATED:20200227T025846Z
LAST-MODIFIED:20250312T173955Z
UID:1464-1747476000-1747494000@paradisepointyachtclub.org
SUMMARY:FUN Race 1
DESCRIPTION:Captains meeting 10:00am at the shelter
URL:https://paradisepointyachtclub.org/event/buoy-races-spring-series/
CATEGORIES:Races
ATTACH;FMTTYPE=image/jpeg:https://paradisepointyachtclub.org/wp-content/uploads/2015/08/166027_355044331227537_123788375_n.jpg
END:VEVENT
END:VCALENDAR