BEGIN:VCALENDAR
VERSION:2.0
PRODID:-//Paradise Point Yacht Club - ECPv6.15.20//NONSGML v1.0//EN
CALSCALE:GREGORIAN
METHOD:PUBLISH
X-WR-CALNAME:Paradise Point Yacht Club
X-ORIGINAL-URL:https://paradisepointyachtclub.org
X-WR-CALDESC:Events for Paradise Point Yacht Club
REFRESH-INTERVAL;VALUE=DURATION:PT1H
X-Robots-Tag:noindex
X-PUBLISHED-TTL:PT1H
BEGIN:VTIMEZONE
TZID:America/Chicago
BEGIN:DAYLIGHT
TZOFFSETFROM:-0600
TZOFFSETTO:-0500
TZNAME:CDT
DTSTART:20220313T080000
END:DAYLIGHT
BEGIN:STANDARD
TZOFFSETFROM:-0500
TZOFFSETTO:-0600
TZNAME:CST
DTSTART:20221106T070000
END:STANDARD
BEGIN:DAYLIGHT
TZOFFSETFROM:-0600
TZOFFSETTO:-0500
TZNAME:CDT
DTSTART:20230312T080000
END:DAYLIGHT
BEGIN:STANDARD
TZOFFSETFROM:-0500
TZOFFSETTO:-0600
TZNAME:CST
DTSTART:20231105T070000
END:STANDARD
BEGIN:DAYLIGHT
TZOFFSETFROM:-0600
TZOFFSETTO:-0500
TZNAME:CDT
DTSTART:20240310T080000
END:DAYLIGHT
BEGIN:STANDARD
TZOFFSETFROM:-0500
TZOFFSETTO:-0600
TZNAME:CST
DTSTART:20241103T070000
END:STANDARD
BEGIN:DAYLIGHT
TZOFFSETFROM:-0600
TZOFFSETTO:-0500
TZNAME:CDT
DTSTART:20250309T080000
END:DAYLIGHT
BEGIN:STANDARD
TZOFFSETFROM:-0500
TZOFFSETTO:-0600
TZNAME:CST
DTSTART:20251102T070000
END:STANDARD
BEGIN:DAYLIGHT
TZOFFSETFROM:-0600
TZOFFSETTO:-0500
TZNAME:CDT
DTSTART:20260308T080000
END:DAYLIGHT
BEGIN:STANDARD
TZOFFSETFROM:-0500
TZOFFSETTO:-0600
TZNAME:CST
DTSTART:20261101T070000
END:STANDARD
BEGIN:DAYLIGHT
TZOFFSETFROM:-0600
TZOFFSETTO:-0500
TZNAME:CDT
DTSTART:20270314T080000
END:DAYLIGHT
BEGIN:STANDARD
TZOFFSETFROM:-0500
TZOFFSETTO:-0600
TZNAME:CST
DTSTART:20271107T070000
END:STANDARD
END:VTIMEZONE
BEGIN:VEVENT
DTSTART;TZID=America/Chicago:20260711T180000
DTEND;TZID=America/Chicago:20260711T200000
DTSTAMP:20260423T173342
CREATED:20250312T184254Z
LAST-MODIFIED:20260215T195405Z
UID:8448-1783792800-1783800000@paradisepointyachtclub.org
SUMMARY:July Social – B Dock
DESCRIPTION:
URL:https://paradisepointyachtclub.org/event/july-social-b-dock/
LOCATION:PPYC Sailboat Cove\, 4619 Chapel Rd Smithville\, MO 64089\, Smithville\, MO\, 64089\, United States
CATEGORIES:Fun,Socials
ATTACH;FMTTYPE=image/jpeg:https://paradisepointyachtclub.org/wp-content/uploads/2025/06/IMG_8373.jpg
END:VEVENT
BEGIN:VEVENT
DTSTART;TZID=America/Chicago:20260708T173000
DTEND;TZID=America/Chicago:20260708T173000
DTSTAMP:20260423T173342
CREATED:20250318T014052Z
LAST-MODIFIED:20260215T210612Z
UID:8512-1783531800-1783531800@paradisepointyachtclub.org
SUMMARY:Wednesday Beer Can Race
DESCRIPTION:
URL:https://paradisepointyachtclub.org/event/wednesday-beer-can-race-9/
CATEGORIES:Races
END:VEVENT
BEGIN:VEVENT
DTSTART;TZID=America/Chicago:20260701T173000
DTEND;TZID=America/Chicago:20260701T173000
DTSTAMP:20260423T173342
CREATED:20250318T014026Z
LAST-MODIFIED:20260215T210512Z
UID:8510-1782927000-1782927000@paradisepointyachtclub.org
SUMMARY:Wednesday Beer Can Race
DESCRIPTION:
URL:https://paradisepointyachtclub.org/event/wednesday-beer-can-race-8/
CATEGORIES:Races
END:VEVENT
BEGIN:VEVENT
DTSTART;TZID=America/Chicago:20260624T173000
DTEND;TZID=America/Chicago:20260624T173000
DTSTAMP:20260423T173342
CREATED:20250318T013957Z
LAST-MODIFIED:20260215T210410Z
UID:8508-1782322200-1782322200@paradisepointyachtclub.org
SUMMARY:Wednesday Beer Can Race
DESCRIPTION:
URL:https://paradisepointyachtclub.org/event/wednesday-beer-can-race-7/
CATEGORIES:Races
END:VEVENT
BEGIN:VEVENT
DTSTART;TZID=America/Chicago:20260617T173000
DTEND;TZID=America/Chicago:20260617T173000
DTSTAMP:20260423T173342
CREATED:20250318T013911Z
LAST-MODIFIED:20260215T210242Z
UID:8506-1781717400-1781717400@paradisepointyachtclub.org
SUMMARY:Wednesday Beer Can Race
DESCRIPTION:
URL:https://paradisepointyachtclub.org/event/wednesday-beer-can-race-6/
CATEGORIES:Races
END:VEVENT
BEGIN:VEVENT
DTSTART;TZID=America/Chicago:20260613T180000
DTEND;TZID=America/Chicago:20260613T200000
DTSTAMP:20260423T173342
CREATED:20200225T023147Z
LAST-MODIFIED:20260215T195244Z
UID:1417-1781373600-1781380800@paradisepointyachtclub.org
SUMMARY:June Social – C Dock
DESCRIPTION:
URL:https://paradisepointyachtclub.org/event/may-social-all-sailboat-cove-slip-mooring-holders-invited/
CATEGORIES:Fun,Socials
ATTACH;FMTTYPE=image/jpeg:https://paradisepointyachtclub.org/wp-content/uploads/2025/06/IMG_8372.jpg
END:VEVENT
BEGIN:VEVENT
DTSTART;TZID=America/Chicago:20260610T173000
DTEND;TZID=America/Chicago:20260610T173000
DTSTAMP:20260423T173342
CREATED:20250318T013837Z
LAST-MODIFIED:20260215T210145Z
UID:8504-1781112600-1781112600@paradisepointyachtclub.org
SUMMARY:Wednesday Beer Can Race
DESCRIPTION:
URL:https://paradisepointyachtclub.org/event/wednesday-beer-can-race-5/
CATEGORIES:Races
END:VEVENT
BEGIN:VEVENT
DTSTART;TZID=America/Chicago:20260610T173000
DTEND;TZID=America/Chicago:20260610T173000
DTSTAMP:20260423T173342
CREATED:20250318T013705Z
LAST-MODIFIED:20260215T205814Z
UID:8502-1781112600-1781112600@paradisepointyachtclub.org
SUMMARY:Wednesday Beer Can Race
DESCRIPTION:
URL:https://paradisepointyachtclub.org/event/wednesday-beer-can-race-4/
CATEGORIES:Races
END:VEVENT
BEGIN:VEVENT
DTSTART;TZID=America/Chicago:20260603T173000
DTEND;TZID=America/Chicago:20260603T173000
DTSTAMP:20260423T173342
CREATED:20250318T013639Z
LAST-MODIFIED:20260215T205743Z
UID:8500-1780507800-1780507800@paradisepointyachtclub.org
SUMMARY:Wednesday Beer Can Race
DESCRIPTION:
URL:https://paradisepointyachtclub.org/event/wednesday-beer-can-race-3/
CATEGORIES:Races
END:VEVENT
BEGIN:VEVENT
DTSTART;TZID=America/Chicago:20260527T173000
DTEND;TZID=America/Chicago:20260527T173000
DTSTAMP:20260423T173342
CREATED:20250318T013528Z
LAST-MODIFIED:20260215T205711Z
UID:8498-1779903000-1779903000@paradisepointyachtclub.org
SUMMARY:Wednesday Beer Can Race
DESCRIPTION:
URL:https://paradisepointyachtclub.org/event/wednesday-beer-can-race-2/
CATEGORIES:Races
END:VEVENT
BEGIN:VEVENT
DTSTART;TZID=America/Chicago:20260525T130000
DTEND;TZID=America/Chicago:20260525T140000
DTSTAMP:20260423T173342
CREATED:20200225T024353Z
LAST-MODIFIED:20260215T201824Z
UID:1419-1779714000-1779717600@paradisepointyachtclub.org
SUMMARY:Memorial Day Remembrance and Gathering
DESCRIPTION:“Twilight and evening bell\,\nAnd after that the dark!\nAnd may there be no sadness of farewell\,\nWhen I embark;\nFor though from out our bourne of Time and Place\nThe flood may bear me far\,\nI hope to see my Pilot face to face\nWhen I have crossed the bar.” \nAlfred\, Lord Tennyson: “Crossing the Bar” \n 
URL:https://paradisepointyachtclub.org/event/memorial-day-remembrance-and-gathering-time-tbd/
CATEGORIES:Fun,Socials
END:VEVENT
BEGIN:VEVENT
DTSTART;TZID=America/Chicago:20260520T173000
DTEND;TZID=America/Chicago:20260520T173000
DTSTAMP:20260423T173342
CREATED:20250318T013412Z
LAST-MODIFIED:20260215T205236Z
UID:8496-1779298200-1779298200@paradisepointyachtclub.org
SUMMARY:Wednesday Beer Can Race
DESCRIPTION:
URL:https://paradisepointyachtclub.org/event/wednesday-beer-can-race/
CATEGORIES:Races
END:VEVENT
BEGIN:VEVENT
DTSTART;TZID=America/Chicago:20260513T173000
DTEND;TZID=America/Chicago:20260513T173000
DTSTAMP:20260423T173342
CREATED:20250312T141923Z
LAST-MODIFIED:20260215T205358Z
UID:8410-1778693400-1778693400@paradisepointyachtclub.org
SUMMARY:Start of Wednesday Beer Can Races
DESCRIPTION:Sailboat cove buoy to the dam buoy and back. Keep your own time.
URL:https://paradisepointyachtclub.org/event/start-of-wednesday-races/
END:VEVENT
BEGIN:VEVENT
DTSTART;TZID=America/Chicago:20260509T180000
DTEND;TZID=America/Chicago:20260509T200000
DTSTAMP:20260423T173342
CREATED:20250312T141004Z
LAST-MODIFIED:20260215T195003Z
UID:8394-1778349600-1778356800@paradisepointyachtclub.org
SUMMARY:May Social – Kenducky Derby
DESCRIPTION:Sailboat cove shelter
URL:https://paradisepointyachtclub.org/event/may-social-kenducky-derby/
LOCATION:PPYC Sailboat Cove\, 4619 Chapel Rd Smithville\, MO 64089\, Smithville\, MO\, 64089\, United States
CATEGORIES:Fun,Socials
ATTACH;FMTTYPE=image/jpeg:https://paradisepointyachtclub.org/wp-content/uploads/2024/05/IMG_8547-scaled.jpg
END:VEVENT
BEGIN:VEVENT
DTSTART;TZID=America/Chicago:20260411T180000
DTEND;TZID=America/Chicago:20260411T200000
DTSTAMP:20260423T173342
CREATED:20250309T194549Z
LAST-MODIFIED:20260215T194819Z
UID:8388-1775930400-1775937600@paradisepointyachtclub.org
SUMMARY:Spring Social @iwerx
DESCRIPTION:Social Committee catered
URL:https://paradisepointyachtclub.org/event/spring-social/
LOCATION:iwerx NKC\, 1520 Clay Street\, North Kansas City\, MO\, 64116\, United States
CATEGORIES:Socials
ATTACH;FMTTYPE=image/jpeg:https://paradisepointyachtclub.org/wp-content/uploads/2025/03/iwerx.jpg
END:VEVENT
BEGIN:VEVENT
DTSTART;TZID=America/Chicago:20251004T100000
DTEND;TZID=America/Chicago:20251004T150000
DTSTAMP:20260423T173342
CREATED:20250312T191205Z
LAST-MODIFIED:20250312T191205Z
UID:8466-1759572000-1759590000@paradisepointyachtclub.org
SUMMARY:Fall Series Races 5 & 6
DESCRIPTION:
URL:https://paradisepointyachtclub.org/event/fall-series-races-5-6/
LOCATION:PPYC Sailboat Cove\, 4619 Chapel Rd Smithville\, MO 64089\, Smithville\, MO\, 64089\, United States
CATEGORIES:Races
ATTACH;FMTTYPE=image/jpeg:https://paradisepointyachtclub.org/wp-content/uploads/2015/08/166027_355044331227537_123788375_n.jpg
END:VEVENT
BEGIN:VEVENT
DTSTART;TZID=America/Chicago:20250906T100000
DTEND;TZID=America/Chicago:20250906T150000
DTSTAMP:20260423T173342
CREATED:20250312T190346Z
LAST-MODIFIED:20250312T190346Z
UID:8460-1757152800-1757170800@paradisepointyachtclub.org
SUMMARY:Fall Series Races 3 & 4
DESCRIPTION:
URL:https://paradisepointyachtclub.org/event/fall-series-races-3-4/
LOCATION:PPYC Sailboat Cove\, 4619 Chapel Rd Smithville\, MO 64089\, Smithville\, MO\, 64089\, United States
CATEGORIES:Races
ATTACH;FMTTYPE=image/jpeg:https://paradisepointyachtclub.org/wp-content/uploads/2015/08/166027_355044331227537_123788375_n.jpg
END:VEVENT
BEGIN:VEVENT
DTSTART;TZID=America/Chicago:20250823T100000
DTEND;TZID=America/Chicago:20250823T150000
DTSTAMP:20260423T173342
CREATED:20190224T225544Z
LAST-MODIFIED:20250312T185314Z
UID:1234-1755943200-1755961200@paradisepointyachtclub.org
SUMMARY:Fall Series Races 1 & 2
DESCRIPTION:Captain’s Meeting @ 10:00 am
URL:https://paradisepointyachtclub.org/event/buoy-race-3/
LOCATION:PPYC Sailboat Cove\, 4619 Chapel Rd Smithville\, MO 64089\, Smithville\, MO\, 64089\, United States
CATEGORIES:Races
ATTACH;FMTTYPE=image/jpeg:https://paradisepointyachtclub.org/wp-content/uploads/2015/08/166027_355044331227537_123788375_n.jpg
END:VEVENT
BEGIN:VEVENT
DTSTART;TZID=America/Chicago:20250726T100000
DTEND;TZID=America/Chicago:20250726T150000
DTSTAMP:20260423T173342
CREATED:20190224T225740Z
LAST-MODIFIED:20250723T171601Z
UID:1238-1753524000-1753542000@paradisepointyachtclub.org
SUMMARY:Fun Race 3 (Sailors\, With the heat / humidity we are cancelling the Fun Race Saturday)
DESCRIPTION:Captain’s Meeting – 10:00 am
URL:https://paradisepointyachtclub.org/event/buoy-races-3/
LOCATION:PPYC Sailboat Cove\, 4619 Chapel Rd Smithville\, MO 64089\, Smithville\, MO\, 64089\, United States
CATEGORIES:Races
ATTACH;FMTTYPE=image/jpeg:https://paradisepointyachtclub.org/wp-content/uploads/2015/08/166027_355044331227537_123788375_n.jpg
END:VEVENT
BEGIN:VEVENT
DTSTART;VALUE=DATE:20250704
DTEND;VALUE=DATE:20250705
DTSTAMP:20260423T173342
CREATED:20200225T030741Z
LAST-MODIFIED:20250312T192615Z
UID:1429-1751587200-1751673599@paradisepointyachtclub.org
SUMMARY:July 4th RAFT UP for the Fireworks - Shelter Available to PPYC Members
DESCRIPTION:July 4th Raft UP for the Fireworks
URL:https://paradisepointyachtclub.org/event/july-4th-raft-up-for-the-fireworks/
LOCATION:PPYC Sailboat Cove\, 4619 Chapel Rd Smithville\, MO 64089\, Smithville\, MO\, 64089\, United States
CATEGORIES:Fun,Socials
ATTACH;FMTTYPE=image/jpeg:https://paradisepointyachtclub.org/wp-content/uploads/2020/02/july-4th.jpg
END:VEVENT
BEGIN:VEVENT
DTSTART;TZID=America/Chicago:20250628T100000
DTEND;TZID=America/Chicago:20250628T150000
DTSTAMP:20260423T173342
CREATED:20190224T224631Z
LAST-MODIFIED:20250312T182603Z
UID:1214-1751104800-1751122800@paradisepointyachtclub.org
SUMMARY:Fun Race 2
DESCRIPTION:Captain’s Meeting – 10:00am
URL:https://paradisepointyachtclub.org/event/buoy-race-2/
LOCATION:PPYC Sailboat Cove\, 4619 Chapel Rd Smithville\, MO 64089\, Smithville\, MO\, 64089\, United States
CATEGORIES:Races
ATTACH;FMTTYPE=image/jpeg:https://paradisepointyachtclub.org/wp-content/uploads/2015/08/166027_355044331227537_123788375_n.jpg
END:VEVENT
BEGIN:VEVENT
DTSTART;TZID=America/Chicago:20250621T090000
DTEND;TZID=America/Chicago:20250621T170000
DTSTAMP:20260423T173342
CREATED:20190224T214446Z
LAST-MODIFIED:20250312T182218Z
UID:1134-1750496400-1750525200@paradisepointyachtclub.org
SUMMARY:Introduction to Sailing On the Water Class 3
DESCRIPTION:Two On-the-Water classes (9am to 1pm) (1pm to 5pm)
URL:https://paradisepointyachtclub.org/event/learn-to-sail-15/
LOCATION:PPYC Sailboat Cove\, 4619 Chapel Rd Smithville\, MO 64089\, Smithville\, MO\, 64089\, United States
CATEGORIES:Introduction to Sailing
ATTACH;FMTTYPE=image/jpeg:https://paradisepointyachtclub.org/wp-content/uploads/2015/08/398235_355044407894196_2084970853_n.jpg
END:VEVENT
BEGIN:VEVENT
DTSTART;TZID=America/Chicago:20250619T183000
DTEND;TZID=America/Chicago:20250619T203000
DTSTAMP:20260423T173342
CREATED:20190224T213706Z
LAST-MODIFIED:20250312T181438Z
UID:1124-1750357800-1750365000@paradisepointyachtclub.org
SUMMARY:Introduction to Sailing Classroom Week 3
DESCRIPTION:iWerx Gladstone
URL:https://paradisepointyachtclub.org/event/learn-to-sail-11/
LOCATION:iwerx Gladstone\, 7001 North Locust Street\, Gladstone\, MO\, United States
CATEGORIES:Introduction to Sailing
ATTACH;FMTTYPE=image/jpeg:https://paradisepointyachtclub.org/wp-content/uploads/2020/02/iwerx-glad.jpg
END:VEVENT
BEGIN:VEVENT
DTSTART;TZID=America/Chicago:20250614T090000
DTEND;TZID=America/Chicago:20250614T170000
DTSTAMP:20260423T173342
CREATED:20200225T034404Z
LAST-MODIFIED:20250312T181914Z
UID:1448-1749891600-1749920400@paradisepointyachtclub.org
SUMMARY:Introduction to Sailing On-the-Water week 2
DESCRIPTION:Two On-the-Water classes (9am to 1pm) (1pm to 5pm)
URL:https://paradisepointyachtclub.org/event/learn-to-sail-on-the-water-week-2/
LOCATION:PPYC Sailboat Cove\, 4619 Chapel Rd Smithville\, MO 64089\, Smithville\, MO\, 64089\, United States
CATEGORIES:Introduction to Sailing
ATTACH;FMTTYPE=image/jpeg:https://paradisepointyachtclub.org/wp-content/uploads/2015/08/398235_355044407894196_2084970853_n.jpg
END:VEVENT
BEGIN:VEVENT
DTSTART;TZID=America/Chicago:20250612T183000
DTEND;TZID=America/Chicago:20250612T203000
DTSTAMP:20260423T173342
CREATED:20200225T035038Z
LAST-MODIFIED:20250312T180051Z
UID:1452-1749753000-1749760200@paradisepointyachtclub.org
SUMMARY:Introduction to Sailing Classroom week 2
DESCRIPTION:Session 2 \niWerx Gladstone
URL:https://paradisepointyachtclub.org/event/learn-to-sail-classroom-week-2/
LOCATION:iwerx Gladstone\, 7001 North Locust Street\, Gladstone\, MO\, United States
CATEGORIES:Introduction to Sailing
ATTACH;FMTTYPE=image/jpeg:https://paradisepointyachtclub.org/wp-content/uploads/2020/02/iwerx-glad.jpg
END:VEVENT
BEGIN:VEVENT
DTSTART;TZID=America/Chicago:20250607T090000
DTEND;TZID=America/Chicago:20250607T170000
DTSTAMP:20260423T173342
CREATED:20200225T034238Z
LAST-MODIFIED:20250312T181852Z
UID:1446-1749286800-1749315600@paradisepointyachtclub.org
SUMMARY:Introduction to Sailing On-the-Water week 1
DESCRIPTION:Two On-the-Water classes (9am to 1pm) (1pm to 5pm)
URL:https://paradisepointyachtclub.org/event/learn-to-sail-on-the-water-week-1/
LOCATION:PPYC Sailboat Cove\, 4619 Chapel Rd Smithville\, MO 64089\, Smithville\, MO\, 64089\, United States
CATEGORIES:Introduction to Sailing
ATTACH;FMTTYPE=image/jpeg:https://paradisepointyachtclub.org/wp-content/uploads/2015/08/398235_355044407894196_2084970853_n.jpg
END:VEVENT
BEGIN:VEVENT
DTSTART;TZID=America/Chicago:20250605T183000
DTEND;TZID=America/Chicago:20250605T203000
DTSTAMP:20260423T173342
CREATED:20200225T033925Z
LAST-MODIFIED:20250312T175336Z
UID:1444-1749148200-1749155400@paradisepointyachtclub.org
SUMMARY:Introduction to Sailing - Classroom week 1
DESCRIPTION:Session #1 \niWerx Gladstone
URL:https://paradisepointyachtclub.org/event/learn-to-sail-classroom-1/
LOCATION:iwerx Gladstone\, 7001 North Locust Street\, Gladstone\, MO\, United States
CATEGORIES:Introduction to Sailing
ATTACH;FMTTYPE=image/jpeg:https://paradisepointyachtclub.org/wp-content/uploads/2020/02/iwerx-glad.jpg
END:VEVENT
BEGIN:VEVENT
DTSTART;TZID=America/Chicago:20250517T100000
DTEND;TZID=America/Chicago:20250517T150000
DTSTAMP:20260423T173342
CREATED:20200227T025846Z
LAST-MODIFIED:20250312T173955Z
UID:1464-1747476000-1747494000@paradisepointyachtclub.org
SUMMARY:FUN Race 1
DESCRIPTION:Captains meeting 10:00am at the shelter
URL:https://paradisepointyachtclub.org/event/buoy-races-spring-series/
CATEGORIES:Races
ATTACH;FMTTYPE=image/jpeg:https://paradisepointyachtclub.org/wp-content/uploads/2015/08/166027_355044331227537_123788375_n.jpg
END:VEVENT
BEGIN:VEVENT
DTSTART;TZID=America/Chicago:20230521T090000
DTEND;TZID=America/Chicago:20230521T170000
DTSTAMP:20260423T173342
CREATED:20230208T022123Z
LAST-MODIFIED:20240202T175610Z
UID:6821-1684659600-1684688400@paradisepointyachtclub.org
SUMMARY:Learn To Sail Registration Opens
DESCRIPTION:The registration for the Learn to Sail class opens at the Park Hill Community Education site at 9am
URL:https://paradisepointyachtclub.org/event/learn-to-sail-registration-opens/
END:VEVENT
BEGIN:VEVENT
DTSTART;VALUE=DATE:20230423
DTEND;VALUE=DATE:20230424
DTSTAMP:20260423T173342
CREATED:20190224T214035Z
LAST-MODIFIED:20240202T175632Z
UID:1128-1682208000-1682294399@paradisepointyachtclub.org
SUMMARY:LearnToSail Sign-Up Opens   ***Date May Change***
DESCRIPTION:Sign-up begins in early May at Park Hill Community Education for the June Learn-to-Sail program
URL:https://paradisepointyachtclub.org/event/learn-to-sail-sign-up/
CATEGORIES:Introduction to Sailing
END:VEVENT
END:VCALENDAR