BEGIN:VCALENDAR
VERSION:2.0
PRODID:-//Paradise Point Yacht Club - ECPv6.15.20//NONSGML v1.0//EN
CALSCALE:GREGORIAN
METHOD:PUBLISH
X-WR-CALNAME:Paradise Point Yacht Club
X-ORIGINAL-URL:https://paradisepointyachtclub.org
X-WR-CALDESC:Events for Paradise Point Yacht Club
REFRESH-INTERVAL;VALUE=DURATION:PT1H
X-Robots-Tag:noindex
X-PUBLISHED-TTL:PT1H
BEGIN:VTIMEZONE
TZID:America/Chicago
BEGIN:DAYLIGHT
TZOFFSETFROM:-0600
TZOFFSETTO:-0500
TZNAME:CDT
DTSTART:20250309T080000
END:DAYLIGHT
BEGIN:STANDARD
TZOFFSETFROM:-0500
TZOFFSETTO:-0600
TZNAME:CST
DTSTART:20251102T070000
END:STANDARD
BEGIN:DAYLIGHT
TZOFFSETFROM:-0600
TZOFFSETTO:-0500
TZNAME:CDT
DTSTART:20260308T080000
END:DAYLIGHT
BEGIN:STANDARD
TZOFFSETFROM:-0500
TZOFFSETTO:-0600
TZNAME:CST
DTSTART:20261101T070000
END:STANDARD
BEGIN:DAYLIGHT
TZOFFSETFROM:-0600
TZOFFSETTO:-0500
TZNAME:CDT
DTSTART:20270314T080000
END:DAYLIGHT
BEGIN:STANDARD
TZOFFSETFROM:-0500
TZOFFSETTO:-0600
TZNAME:CST
DTSTART:20271107T070000
END:STANDARD
END:VTIMEZONE
BEGIN:VEVENT
DTSTART;TZID=America/Chicago:20260603T173000
DTEND;TZID=America/Chicago:20260603T173000
DTSTAMP:20260423T160054
CREATED:20250318T013639Z
LAST-MODIFIED:20260215T205743Z
UID:8500-1780507800-1780507800@paradisepointyachtclub.org
SUMMARY:Wednesday Beer Can Race
DESCRIPTION:
URL:https://paradisepointyachtclub.org/event/wednesday-beer-can-race-3/
CATEGORIES:Races
END:VEVENT
BEGIN:VEVENT
DTSTART;TZID=America/Chicago:20260610T173000
DTEND;TZID=America/Chicago:20260610T173000
DTSTAMP:20260423T160054
CREATED:20250318T013705Z
LAST-MODIFIED:20260215T205814Z
UID:8502-1781112600-1781112600@paradisepointyachtclub.org
SUMMARY:Wednesday Beer Can Race
DESCRIPTION:
URL:https://paradisepointyachtclub.org/event/wednesday-beer-can-race-4/
CATEGORIES:Races
END:VEVENT
BEGIN:VEVENT
DTSTART;TZID=America/Chicago:20260610T173000
DTEND;TZID=America/Chicago:20260610T173000
DTSTAMP:20260423T160054
CREATED:20250318T013837Z
LAST-MODIFIED:20260215T210145Z
UID:8504-1781112600-1781112600@paradisepointyachtclub.org
SUMMARY:Wednesday Beer Can Race
DESCRIPTION:
URL:https://paradisepointyachtclub.org/event/wednesday-beer-can-race-5/
CATEGORIES:Races
END:VEVENT
BEGIN:VEVENT
DTSTART;TZID=America/Chicago:20260613T180000
DTEND;TZID=America/Chicago:20260613T200000
DTSTAMP:20260423T160054
CREATED:20200225T023147Z
LAST-MODIFIED:20260215T195244Z
UID:1417-1781373600-1781380800@paradisepointyachtclub.org
SUMMARY:June Social – C Dock
DESCRIPTION:
URL:https://paradisepointyachtclub.org/event/may-social-all-sailboat-cove-slip-mooring-holders-invited/
CATEGORIES:Fun,Socials
ATTACH;FMTTYPE=image/jpeg:https://paradisepointyachtclub.org/wp-content/uploads/2025/06/IMG_8372.jpg
END:VEVENT
BEGIN:VEVENT
DTSTART;TZID=America/Chicago:20260617T173000
DTEND;TZID=America/Chicago:20260617T173000
DTSTAMP:20260423T160054
CREATED:20250318T013911Z
LAST-MODIFIED:20260215T210242Z
UID:8506-1781717400-1781717400@paradisepointyachtclub.org
SUMMARY:Wednesday Beer Can Race
DESCRIPTION:
URL:https://paradisepointyachtclub.org/event/wednesday-beer-can-race-6/
CATEGORIES:Races
END:VEVENT
BEGIN:VEVENT
DTSTART;TZID=America/Chicago:20260624T173000
DTEND;TZID=America/Chicago:20260624T173000
DTSTAMP:20260423T160054
CREATED:20250318T013957Z
LAST-MODIFIED:20260215T210410Z
UID:8508-1782322200-1782322200@paradisepointyachtclub.org
SUMMARY:Wednesday Beer Can Race
DESCRIPTION:
URL:https://paradisepointyachtclub.org/event/wednesday-beer-can-race-7/
CATEGORIES:Races
END:VEVENT
BEGIN:VEVENT
DTSTART;TZID=America/Chicago:20260701T173000
DTEND;TZID=America/Chicago:20260701T173000
DTSTAMP:20260423T160054
CREATED:20250318T014026Z
LAST-MODIFIED:20260215T210512Z
UID:8510-1782927000-1782927000@paradisepointyachtclub.org
SUMMARY:Wednesday Beer Can Race
DESCRIPTION:
URL:https://paradisepointyachtclub.org/event/wednesday-beer-can-race-8/
CATEGORIES:Races
END:VEVENT
BEGIN:VEVENT
DTSTART;TZID=America/Chicago:20260708T173000
DTEND;TZID=America/Chicago:20260708T173000
DTSTAMP:20260423T160054
CREATED:20250318T014052Z
LAST-MODIFIED:20260215T210612Z
UID:8512-1783531800-1783531800@paradisepointyachtclub.org
SUMMARY:Wednesday Beer Can Race
DESCRIPTION:
URL:https://paradisepointyachtclub.org/event/wednesday-beer-can-race-9/
CATEGORIES:Races
END:VEVENT
BEGIN:VEVENT
DTSTART;TZID=America/Chicago:20260711T180000
DTEND;TZID=America/Chicago:20260711T200000
DTSTAMP:20260423T160054
CREATED:20250312T184254Z
LAST-MODIFIED:20260215T195405Z
UID:8448-1783792800-1783800000@paradisepointyachtclub.org
SUMMARY:July Social – B Dock
DESCRIPTION:
URL:https://paradisepointyachtclub.org/event/july-social-b-dock/
LOCATION:PPYC Sailboat Cove\, 4619 Chapel Rd Smithville\, MO 64089\, Smithville\, MO\, 64089\, United States
CATEGORIES:Fun,Socials
ATTACH;FMTTYPE=image/jpeg:https://paradisepointyachtclub.org/wp-content/uploads/2025/06/IMG_8373.jpg
END:VEVENT
BEGIN:VEVENT
DTSTART;TZID=America/Chicago:20260715T173000
DTEND;TZID=America/Chicago:20260715T173000
DTSTAMP:20260423T160054
CREATED:20250318T014205Z
LAST-MODIFIED:20260215T210632Z
UID:8516-1784136600-1784136600@paradisepointyachtclub.org
SUMMARY:Wednesday Beer Can Race
DESCRIPTION:
URL:https://paradisepointyachtclub.org/event/wednesday-beer-can-race-11/
CATEGORIES:Races
END:VEVENT
BEGIN:VEVENT
DTSTART;TZID=America/Chicago:20260722T173000
DTEND;TZID=America/Chicago:20260722T173000
DTSTAMP:20260423T160054
CREATED:20250318T014113Z
LAST-MODIFIED:20260215T210653Z
UID:8514-1784741400-1784741400@paradisepointyachtclub.org
SUMMARY:Wednesday Beer Can Race
DESCRIPTION:
URL:https://paradisepointyachtclub.org/event/wednesday-beer-can-race-10/
CATEGORIES:Races
END:VEVENT
BEGIN:VEVENT
DTSTART;TZID=America/Chicago:20260729T173000
DTEND;TZID=America/Chicago:20260729T173000
DTSTAMP:20260423T160054
CREATED:20250318T014247Z
LAST-MODIFIED:20260215T210735Z
UID:8518-1785346200-1785346200@paradisepointyachtclub.org
SUMMARY:Wednesday Beer Can Race
DESCRIPTION:
URL:https://paradisepointyachtclub.org/event/wednesday-beer-can-race-12/
CATEGORIES:Races
END:VEVENT
BEGIN:VEVENT
DTSTART;TZID=America/Chicago:20260805T173000
DTEND;TZID=America/Chicago:20260805T173000
DTSTAMP:20260423T160054
CREATED:20250318T014311Z
LAST-MODIFIED:20260215T210844Z
UID:8520-1785951000-1785951000@paradisepointyachtclub.org
SUMMARY:Wednesday Beer Can Race
DESCRIPTION:
URL:https://paradisepointyachtclub.org/event/wednesday-beer-can-race-13/
CATEGORIES:Races
END:VEVENT
BEGIN:VEVENT
DTSTART;TZID=America/Chicago:20260808T180000
DTEND;TZID=America/Chicago:20260808T200000
DTSTAMP:20260423T160054
CREATED:20200724T051944Z
LAST-MODIFIED:20260215T195325Z
UID:1626-1786212000-1786219200@paradisepointyachtclub.org
SUMMARY:August Social – A Dock
DESCRIPTION:August Social at the Sailboat Cove Shelter \n 
URL:https://paradisepointyachtclub.org/event/august-social-2/
LOCATION:PPYC Sailboat Cove\, 4619 Chapel Rd Smithville\, MO 64089\, Smithville\, MO\, 64089\, United States
CATEGORIES:Socials
ATTACH;FMTTYPE=image/jpeg:https://paradisepointyachtclub.org/wp-content/uploads/2025/06/IMG_8379.jpg
END:VEVENT
BEGIN:VEVENT
DTSTART;TZID=America/Chicago:20260812T173000
DTEND;TZID=America/Chicago:20260812T173000
DTSTAMP:20260423T160054
CREATED:20250318T014338Z
LAST-MODIFIED:20260215T210912Z
UID:8522-1786555800-1786555800@paradisepointyachtclub.org
SUMMARY:Wednesday Beer Can Race
DESCRIPTION:
URL:https://paradisepointyachtclub.org/event/wednesday-beer-can-race-14/
CATEGORIES:Races
END:VEVENT
BEGIN:VEVENT
DTSTART;TZID=America/Chicago:20260819T173000
DTEND;TZID=America/Chicago:20260819T173000
DTSTAMP:20260423T160054
CREATED:20250318T014401Z
LAST-MODIFIED:20260215T210931Z
UID:8524-1787160600-1787160600@paradisepointyachtclub.org
SUMMARY:Wednesday Beer Can Race
DESCRIPTION:
URL:https://paradisepointyachtclub.org/event/wednesday-beer-can-race-15/
CATEGORIES:Races
END:VEVENT
BEGIN:VEVENT
DTSTART;TZID=America/Chicago:20260826T173000
DTEND;TZID=America/Chicago:20260826T173000
DTSTAMP:20260423T160054
CREATED:20250318T014536Z
LAST-MODIFIED:20260215T211006Z
UID:8527-1787765400-1787765400@paradisepointyachtclub.org
SUMMARY:Wednesday Beer Can Race
DESCRIPTION:
URL:https://paradisepointyachtclub.org/event/wednesday-beer-can-race-16/
CATEGORIES:Races
END:VEVENT
BEGIN:VEVENT
DTSTART;TZID=America/Chicago:20260902T173000
DTEND;TZID=America/Chicago:20260902T173000
DTSTAMP:20260423T160054
CREATED:20250318T014601Z
LAST-MODIFIED:20260215T211056Z
UID:8529-1788370200-1788370200@paradisepointyachtclub.org
SUMMARY:Wednesday Beer Can Race
DESCRIPTION:
URL:https://paradisepointyachtclub.org/event/wednesday-beer-can-race-17/
CATEGORIES:Races
END:VEVENT
BEGIN:VEVENT
DTSTART;VALUE=DATE:20260907
DTEND;VALUE=DATE:20260908
DTSTAMP:20260423T160054
CREATED:20200227T224338Z
LAST-MODIFIED:20260215T202358Z
UID:1528-1788739200-1788825599@paradisepointyachtclub.org
SUMMARY:Labor Day Holiday - Shelter Available to PPYC
DESCRIPTION:Shelter Available to PPYC Members
URL:https://paradisepointyachtclub.org/event/wine-cooler-39/
LOCATION:PPYC Sailboat Cove\, 4619 Chapel Rd Smithville\, MO 64089\, Smithville\, MO\, 64089\, United States
CATEGORIES:Fun
END:VEVENT
BEGIN:VEVENT
DTSTART;TZID=America/Chicago:20260909T173000
DTEND;TZID=America/Chicago:20260909T173000
DTSTAMP:20260423T160054
CREATED:20250318T014642Z
LAST-MODIFIED:20260215T211112Z
UID:8531-1788975000-1788975000@paradisepointyachtclub.org
SUMMARY:Wednesday Beer Can Race
DESCRIPTION:
URL:https://paradisepointyachtclub.org/event/wednesday-beer-can-race-18/
CATEGORIES:Races
END:VEVENT
BEGIN:VEVENT
DTSTART;TZID=America/Chicago:20260912T180000
DTEND;TZID=America/Chicago:20260912T200000
DTSTAMP:20260423T160054
CREATED:20250312T191006Z
LAST-MODIFIED:20260215T195552Z
UID:8463-1789236000-1789243200@paradisepointyachtclub.org
SUMMARY:September Social & BBQ Contest
DESCRIPTION:(Barbecue Cook-Off) Hosted by the Board
URL:https://paradisepointyachtclub.org/event/september-social/
LOCATION:PPYC Sailboat Cove\, 4619 Chapel Rd Smithville\, MO 64089\, Smithville\, MO\, 64089\, United States
CATEGORIES:Socials
ATTACH;FMTTYPE=image/jpeg:https://paradisepointyachtclub.org/wp-content/uploads/2023/07/bbq-2023-e1741806590197.jpg
END:VEVENT
BEGIN:VEVENT
DTSTART;TZID=America/Chicago:20260916T173000
DTEND;TZID=America/Chicago:20260916T173000
DTSTAMP:20260423T160054
CREATED:20250318T014702Z
LAST-MODIFIED:20260215T211135Z
UID:8533-1789579800-1789579800@paradisepointyachtclub.org
SUMMARY:Wednesday Beer Can Race
DESCRIPTION:
URL:https://paradisepointyachtclub.org/event/wednesday-beer-can-race-19/
CATEGORIES:Races
END:VEVENT
BEGIN:VEVENT
DTSTART;TZID=America/Chicago:20260923T173000
DTEND;TZID=America/Chicago:20260923T173000
DTSTAMP:20260423T160054
CREATED:20250318T014725Z
LAST-MODIFIED:20260215T211846Z
UID:8535-1790184600-1790184600@paradisepointyachtclub.org
SUMMARY:Wednesday Beer Can Race
DESCRIPTION:
URL:https://paradisepointyachtclub.org/event/wednesday-beer-can-race-20/
CATEGORIES:Races
END:VEVENT
BEGIN:VEVENT
DTSTART;TZID=America/Chicago:20260930T173000
DTEND;TZID=America/Chicago:20260930T173000
DTSTAMP:20260423T160054
CREATED:20260215T211913Z
LAST-MODIFIED:20260215T212157Z
UID:9642-1790789400-1790789400@paradisepointyachtclub.org
SUMMARY:Wednesday Beer Can Race
DESCRIPTION:
URL:https://paradisepointyachtclub.org/event/wednesday-beer-can-race-21/
END:VEVENT
BEGIN:VEVENT
DTSTART;TZID=America/Chicago:20261007T173000
DTEND;TZID=America/Chicago:20261007T173000
DTSTAMP:20260423T160054
CREATED:20260215T212105Z
LAST-MODIFIED:20260215T212241Z
UID:9644-1791394200-1791394200@paradisepointyachtclub.org
SUMMARY:Wednesday Beer Can Race
DESCRIPTION:
URL:https://paradisepointyachtclub.org/event/wednesday-beer-can-race-22/
END:VEVENT
BEGIN:VEVENT
DTSTART;TZID=America/Chicago:20261014T173000
DTEND;TZID=America/Chicago:20261014T173000
DTSTAMP:20260423T160054
CREATED:20260215T212309Z
LAST-MODIFIED:20260215T212309Z
UID:9646-1791999000-1791999000@paradisepointyachtclub.org
SUMMARY:Wednesday Beer Can Race
DESCRIPTION:
URL:https://paradisepointyachtclub.org/event/wednesday-beer-can-race-23/
END:VEVENT
BEGIN:VEVENT
DTSTART;TZID=America/Chicago:20261017T180000
DTEND;TZID=America/Chicago:20261017T200000
DTSTAMP:20260423T160054
CREATED:20200225T033219Z
LAST-MODIFIED:20260215T195753Z
UID:1442-1792260000-1792267200@paradisepointyachtclub.org
SUMMARY:Fall Social and Photo Contest - at iWerx
DESCRIPTION:Fall Social and Photo Contest Hosted by the Board
URL:https://paradisepointyachtclub.org/event/fall-social-and-chili-contest/
LOCATION:iwerx NKC\, 1520 Clay Street\, North Kansas City\, MO\, 64116\, United States
CATEGORIES:Fun,Socials
ATTACH;FMTTYPE=image/jpeg:https://paradisepointyachtclub.org/wp-content/uploads/2024/07/IMG_8433-scaled.jpg
END:VEVENT
END:VCALENDAR